Workbook

Sheet Sheet1
A1: Name & Class: | B1: Before you leave class today, complete this reflection about your actions and whether or not you believe they've met our classroom expectations (Be Respectful, Listen Well, Strive, Participate, Assist). As you evaluate yourself, keep in mind the actions you listed on our classroom posters at the beginning of the year--actions which you believe would demonstrate you are adhering to classroom expectations.
B3: You will rate yourself on a scale of 1-4 for the first 5 goals.
B4: 1=POOR --I had difficulty meeting this expectation.
B5: 2=DEVELOPING--I made some effort, but I don't think I met the expectation throughout the class.
B6: 3=ADEQUATE --I met the expectation most of the time, but I had a couple of setbacks.
B7: 4=EXEMPLAR--I met the expectation throughout the class.
B9: Be honest with yourself.
B10: If I would have assigned a different rating for a particular goal, or thought differently about your actions, I will let you know and edit accordingly. We might make time to discuss our different viewpoints after school.
B11: If any action necessitates removal from the classroom for a private conversation in the hall or to a Buddy Room, or if a detention is earned, a rating of 1 will be input for all goals.

Sheet Parameters
A1: Student Name: | B1: Name:
A2: Start Date | B2: 42793
A3: End Date | B3: 42797
A4: # Goals: | B4: 5
A5: Mininum Score/Rating | B5: 1
A6: Maximum Score/Rating | B6: 4
A7: Maximum # of Ratings/Day | B7: 1
A8: Goal #1: | B8: Be Respectful
A9: Goal #2: | B9: Listen Well
A10: Goal #3: | B10: Strive
A11: Goal #4: | B11: Participate
A12: Goal #5: | B12: Assist

Sheet Data
A1: DATE | B1: # RATINGS/Goal (since last entry) | C1: GOAL 1 Points | D1: GOAL 2 Points | E1: GOAL 3 Points | F1: GOAL 4 Points | G1: GOAL 5 Points | H1: GOAL 1 % | I1: GOAL 2 % | J1: GOAL 3 % | K1: GOAL 4 % | L1: GOAL 5 % | M1: Total %
C2: =Parameters!$B8 -> Be Respectful | D2: =Parameters!$B9 -> Listen Well | E2: =Parameters!$B10 -> Strive | F2: =Parameters!$B11 -> Participate | G2: =Parameters!$B12 -> Assist
A3: 42793 | B3: 1 | C3: 4 | D3: 4 | E3: 4 | F3: 4 | G3: 4 | H3: 1 | I3: 1 | J3: 1 | K3: 1 | L3: 1 | M3: =AVERAGE(H3:L3) -> 1
A4: 42794 | B4: 1 | C4: 4 | D4: 4 | E4: 4 | F4: 4 | G4: 4 | H4: =IF((C4=""), "", C4/($B4*Parameters!$B$6)) -> 1 | I4: =IF((D4=""), "", D4/($B4*Parameters!$B$6)) -> 1 | J4: =IF((E4=""), "", E4/($B4*Parameters!$B$6)) -> 1 | K4: =IF((F4=""), "", F4/($B4*Parameters!$B$6)) -> 1 | L4: =IF((G4=""), "", G4/($B4*Parameters!$B$6)) -> 1 | M4: =AVERAGE(H4:L4) -> 1
A5: 42795 | B5: 1 | C5: 4 | D5: 4 | E5: 4 | F5: 4 | G5: 4 | H5: =IF((C5=""), "", C5/($B5*Parameters!$B$6)) -> 1 | I5: =IF((D5=""), "", D5/($B5*Parameters!$B$6)) -> 1 | J5: =IF((E5=""), "", E5/($B5*Parameters!$B$6)) -> 1 | K5: =IF((F5=""), "", F5/($B5*Parameters!$B$6)) -> 1 | L5: =IF((G5=""), "", G5/($B5*Parameters!$B$6)) -> 1 | M5: =AVERAGE(H5:L5) -> 1
A6: 42796 | B6: 1 | C6: 4 | D6: 4 | E6: 4 | F6: 4 | G6: 4 | H6: =IF((C6=""), "", C6/($B6*Parameters!$B$6)) -> 1 | I6: =IF((D6=""), "", D6/($B6*Parameters!$B$6)) -> 1 | J6: =IF((E6=""), "", E6/($B6*Parameters!$B$6)) -> 1 | K6: =IF((F6=""), "", F6/($B6*Parameters!$B$6)) -> 1 | L6: =IF((G6=""), "", G6/($B6*Parameters!$B$6)) -> 1 | M6: =AVERAGE(H6:L6) -> 1
A7: 42797 | B7: 1 | C7: 4 | D7: 4 | E7: 4 | F7: 4 | G7: 4 | H7: =IF((C7=""), "", C7/($B7*Parameters!$B$6)) -> 1 | I7: =IF((D7=""), "", D7/($B7*Parameters!$B$6)) -> 1 | J7: =IF((E7=""), "", E7/($B7*Parameters!$B$6)) -> 1 | K7: =IF((F7=""), "", F7/($B7*Parameters!$B$6)) -> 1 | L7: =IF((G7=""), "", G7/($B7*Parameters!$B$6)) -> 1 | M7: =AVERAGE(H7:L7) -> 1
M8: =AVERAGE(M3:M7) -> 1
H9: =IF((C9=""), "", C9/($B9*Parameters!$B$6)) | I9: =IF((D9=""), "", D9/($B9*Parameters!$B$6)) | J9: =IF((E9=""), "", E9/($B9*Parameters!$B$6)) | K9: =IF((F9=""), "", F9/($B9*Parameters!$B$6)) | L9: =IF((G9=""), "", G9/($B9*Parameters!$B$6)) | M9: =IF($B9>0, (SUM(C9:G9)/(B9*Parameters!$B$4*Parameters!$B$6)),)
H10: =IF((C10=""), "", C10/($B10*Parameters!$B$6)) | I10: =IF((D10=""), "", D10/($B10*Parameters!$B$6)) | J10: =IF((E10=""), "", E10/($B10*Parameters!$B$6)) | K10: =IF((F10=""), "", F10/($B10*Parameters!$B$6)) | L10: =IF((G10=""), "", G10/($B10*Parameters!$B$6)) | M10: =IF($B10>0, (SUM(C10:G10)/(B10*Parameters!$B$4*Parameters!$B$6)),)
H11: =IF((C11=""), "", C11/($B11*Parameters!$B$6)) | I11: =IF((D11=""), "", D11/($B11*Parameters!$B$6)) | J11: =IF((E11=""), "", E11/($B11*Parameters!$B$6)) | K11: =IF((F11=""), "", F11/($B11*Parameters!$B$6)) | L11: =IF((G11=""), "", G11/($B11*Parameters!$B$6)) | M11: =IF($B11>0, (SUM(C11:G11)/(B11*Parameters!$B$4*Parameters!$B$6)),)
H12: =IF((C12=""), "", C12/($B12*Parameters!$B$6)) | I12: =IF((D12=""), "", D12/($B12*Parameters!$B$6)) | J12: =IF((E12=""), "", E12/($B12*Parameters!$B$6)) | K12: =IF((F12=""), "", F12/($B12*Parameters!$B$6)) | L12: =IF((G12=""), "", G12/($B12*Parameters!$B$6)) | M12: =IF($B12>0, (SUM(C12:G12)/(B12*Parameters!$B$4*Parameters!$B$6)),)
H13: =IF((C13=""), "", C13/($B13*Parameters!$B$6)) | I13: =IF((D13=""), "", D13/($B13*Parameters!$B$6)) | J13: =IF((E13=""), "", E13/($B13*Parameters!$B$6)) | K13: =IF((F13=""), "", F13/($B13*Parameters!$B$6)) | L13: =IF((G13=""), "", G13/($B13*Parameters!$B$6)) | M13: =IF($B13>0, (SUM(C13:G13)/(B13*Parameters!$B$4*Parameters!$B$6)),)
H14: =IF((C14=""), "", C14/($B14*Parameters!$B$6)) | I14: =IF((D14=""), "", D14/($B14*Parameters!$B$6)) | J14: =IF((E14=""), "", E14/($B14*Parameters!$B$6)) | K14: =IF((F14=""), "", F14/($B14*Parameters!$B$6)) | L14: =IF((G14=""), "", G14/($B14*Parameters!$B$6)) | M14: =IF($B14>0, (SUM(C14:G14)/(B14*Parameters!$B$4*Parameters!$B$6)),)
H15: =IF((C15=""), "", C15/($B15*Parameters!$B$6)) | I15: =IF((D15=""), "", D15/($B15*Parameters!$B$6)) | J15: =IF((E15=""), "", E15/($B15*Parameters!$B$6)) | K15: =IF((F15=""), "", F15/($B15*Parameters!$B$6)) | L15: =IF((G15=""), "", G15/($B15*Parameters!$B$6)) | M15: =IF($B15>0, (SUM(C15:G15)/(B15*Parameters!$B$4*Parameters!$B$6)),)
H16: =IF((C16=""), "", C16/($B16*Parameters!$B$6)) | I16: =IF((D16=""), "", D16/($B16*Parameters!$B$6)) | J16: =IF((E16=""), "", E16/($B16*Parameters!$B$6)) | K16: =IF((F16=""), "", F16/($B16*Parameters!$B$6)) | L16: =IF((G16=""), "", G16/($B16*Parameters!$B$6)) | M16: =IF($B16>0, (SUM(C16:G16)/(B16*Parameters!$B$4*Parameters!$B$6)),)
H17: =IF((C17=""), "", C17/($B17*Parameters!$B$6)) | I17: =IF((D17=""), "", D17/($B17*Parameters!$B$6)) | J17: =IF((E17=""), "", E17/($B17*Parameters!$B$6)) | K17: =IF((F17=""), "", F17/($B17*Parameters!$B$6)) | L17: =IF((G17=""), "", G17/($B17*Parameters!$B$6)) | M17: =IF($B17>0, (SUM(C17:G17)/(B17*Parameters!$B$4*Parameters!$B$6)),)
H18: =IF((C18=""), "", C18/($B18*Parameters!$B$6)) | I18: =IF((D18=""), "", D18/($B18*Parameters!$B$6)) | J18: =IF((E18=""), "", E18/($B18*Parameters!$B$6)) | K18: =IF((F18=""), "", F18/($B18*Parameters!$B$6)) | L18: =IF((G18=""), "", G18/($B18*Parameters!$B$6)) | M18: =IF($B18>0, (SUM(C18:G18)/(B18*Parameters!$B$4*Parameters!$B$6)),)
H19: =IF((C19=""), "", C19/($B19*Parameters!$B$6)) | I19: =IF((D19=""), "", D19/($B19*Parameters!$B$6)) | J19: =IF((E19=""), "", E19/($B19*Parameters!$B$6)) | K19: =IF((F19=""), "", F19/($B19*Parameters!$B$6)) | L19: =IF((G19=""), "", G19/($B19*Parameters!$B$6)) | M19: =IF($B19>0, (SUM(C19:G19)/(B19*Parameters!$B$4*Parameters!$B$6)),)
H20: =IF((C20=""), "", C20/($B20*Parameters!$B$6)) | I20: =IF((D20=""), "", D20/($B20*Parameters!$B$6)) | J20: =IF((E20=""), "", E20/($B20*Parameters!$B$6)) | K20: =IF((F20=""), "", F20/($B20*Parameters!$B$6)) | L20: =IF((G20=""), "", G20/($B20*Parameters!$B$6)) | M20: =IF($B20>0, (SUM(C20:G20)/(B20*Parameters!$B$4*Parameters!$B$6)),)
... H30: =IF((C30=""), "", C30/($B30*Parameters!$B$6)) | I30: =IF((D30=""), "", D30/($B30*Parameters!$B$6)) | J30: =IF((E30=""), "", E30/($B30*Parameters!$B$6)) | K30: =IF((F30=""), "", F30/($B30*Parameters!$B$6)) | L30: =IF((G30=""), "", G30/($B30*Parameters!$B$6)) | M30: =IF($B30>0, (SUM(C30:G30)/(B30*Parameters!$B$4*Parameters!$B$6)),)
A31: =IF((A30+1<Parameters!$B$3+1), (A30+1),) -> 1 | H31: =IF((C31=""), "", C31/($B31*Parameters!$B$6)) | I31: =IF((D31=""), "", D31/($B31*Parameters!$B$6)) | J31: =IF((E31=""), "", E31/($B31*Parameters!$B$6)) | K31: =IF((F31=""), "", F31/($B31*Parameters!$B$6)) | L31: =IF((G31=""), "", G31/($B31*Parameters!$B$6)) | M31: =IF($B31>0, (SUM(C31:G31)/(B31*Parameters!$B$4*Parameters!$B$6)),)
A32: =IF((A31+1<Parameters!$B$3+1), (A31+1),) -> 2 | H32: =IF((C32=""), "", C32/($B32*Parameters!$B$6)) | I32: =IF((D32=""), "", D32/($B32*Parameters!$B$6)) | J32: =IF((E32=""), "", E32/($B32*Parameters!$B$6)) | K32: =IF((F32=""), "", F32/($B32*Parameters!$B$6)) | L32: =IF((G32=""), "", G32/($B32*Parameters!$B$6)) | M32: =IF($B32>0, (SUM(C32:G32)/(B32*Parameters!$B$4*Parameters!$B$6)),)
A33: =IF((A32+1<Parameters!$B$3+1), (A32+1),) -> 3 | H33: =IF((C33=""), "", C33/($B33*Parameters!$B$6)) | I33: =IF((D33=""), "", D33/($B33*Parameters!$B$6)) | J33: =IF((E33=""), "", E33/($B33*Parameters!$B$6)) | K33: =IF((F33=""), "", F33/($B33*Parameters!$B$6)) | L33: =IF((G33=""), "", G33/($B33*Parameters!$B$6)) | M33: =IF($B33>0, (SUM(C33:G33)/(B33*Parameters!$B$4*Parameters!$B$6)),)
A34: =IF((A33+1<Parameters!$B$3+1), (A33+1),) -> 4 | H34: =IF((C34=""), "", C34/($B34*Parameters!$B$6)) | I34: =IF((D34=""), "", D34/($B34*Parameters!$B$6)) | J34: =IF((E34=""), "", E34/($B34*Parameters!$B$6)) | K34: =IF((F34=""), "", F34/($B34*Parameters!$B$6)) | L34: =IF((G34=""), "", G34/($B34*Parameters!$B$6)) | M34: =IF($B34>0, (SUM(C34:G34)/(B34*Parameters!$B$4*Parameters!$B$6)),)
A35: =IF((A34+1<Parameters!$B$3+1), (A34+1),) -> 5 | H35: =IF((C35=""), "", C35/($B35*Parameters!$B$6)) | I35: =IF((D35=""), "", D35/($B35*Parameters!$B$6)) | J35: =IF((E35=""), "", E35/($B35*Parameters!$B$6)) | K35: =IF((F35=""), "", F35/($B35*Parameters!$B$6)) | L35: =IF((G35=""), "", G35/($B35*Parameters!$B$6)) | M35: =IF($B35>0, (SUM(C35:G35)/(B35*Parameters!$B$4*Parameters!$B$6)),)
A36: =IF((A35+1<Parameters!$B$3+1), (A35+1),) -> 6 | H36: =IF((C36=""), "", C36/($B36*Parameters!$B$6)) | I36: =IF((D36=""), "", D36/($B36*Parameters!$B$6)) | J36: =IF((E36=""), "", E36/($B36*Parameters!$B$6)) | K36: =IF((F36=""), "", F36/($B36*Parameters!$B$6)) | L36: =IF((G36=""), "", G36/($B36*Parameters!$B$6)) | M36: =IF($B36>0, (SUM(C36:G36)/(B36*Parameters!$B$4*Parameters!$B$6)),)
A37: =IF((A36+1<Parameters!$B$3+1), (A36+1),) -> 7 | H37: =IF((C37=""), "", C37/($B37*Parameters!$B$6)) | I37: =IF((D37=""), "", D37/($B37*Parameters!$B$6)) | J37: =IF((E37=""), "", E37/($B37*Parameters!$B$6)) | K37: =IF((F37=""), "", F37/($B37*Parameters!$B$6)) | L37: =IF((G37=""), "", G37/($B37*Parameters!$B$6)) | M37: =IF($B37>0, (SUM(C37:G37)/(B37*Parameters!$B$4*Parameters!$B$6)),)
A38: =IF((A37+1<Parameters!$B$3+1), (A37+1),) -> 8 | H38: =IF((C38=""), "", C38/($B38*Parameters!$B$6)) | I38: =IF((D38=""), "", D38/($B38*Parameters!$B$6)) | J38: =IF((E38=""), "", E38/($B38*Parameters!$B$6)) | K38: =IF((F38=""), "", F38/($B38*Parameters!$B$6)) | L38: =IF((G38=""), "", G38/($B38*Parameters!$B$6)) | M38: =IF($B38>0, (SUM(C38:G38)/(B38*Parameters!$B$4*Parameters!$B$6)),)
A39: =IF((A38+1<Parameters!$B$3+1), (A38+1),) -> 9 | H39: =IF((C39=""), "", C39/($B39*Parameters!$B$6)) | I39: =IF((D39=""), "", D39/($B39*Parameters!$B$6)) | J39: =IF((E39=""), "", E39/($B39*Parameters!$B$6)) | K39: =IF((F39=""), "", F39/($B39*Parameters!$B$6)) | L39: =IF((G39=""), "", G39/($B39*Parameters!$B$6)) | M39: =IF($B39>0, (SUM(C39:G39)/(B39*Parameters!$B$4*Parameters!$B$6)),)
A40: =IF((A39+1<Parameters!$B$3+1), (A39+1),) -> 10 | H40: =IF((C40=""), "", C40/($B40*Parameters!$B$6)) | I40: =IF((D40=""), "", D40/($B40*Parameters!$B$6)) | J40: =IF((E40=""), "", E40/($B40*Parameters!$B$6)) | K40: =IF((F40=""), "", F40/($B40*Parameters!$B$6)) | L40: =IF((G40=""), "", G40/($B40*Parameters!$B$6)) | M40: =IF($B40>0, (SUM(C40:G40)/(B40*Parameters!$B$4*Parameters!$B$6)),)
A41: =IF((A40+1<Parameters!$B$3+1), (A40+1),) -> 11 | H41: =IF((C41=""), "", C41/($B41*Parameters!$B$6)) | I41: =IF((D41=""), "", D41/($B41*Parameters!$B$6)) | J41: =IF((E41=""), "", E41/($B41*Parameters!$B$6)) | K41: =IF((F41=""), "", F41/($B41*Parameters!$B$6)) | L41: =IF((G41=""), "", G41/($B41*Parameters!$B$6)) | M41: =IF($B41>0, (SUM(C41:G41)/(B41*Parameters!$B$4*Parameters!$B$6)),)
A42: =IF((A41+1<Parameters!$B$3+1), (A41+1),) -> 12 | H42: =IF((C42=""), "", C42/($B42*Parameters!$B$6)) | I42: =IF((D42=""), "", D42/($B42*Parameters!$B$6)) | J42: =IF((E42=""), "", E42/($B42*Parameters!$B$6)) | K42: =IF((F42=""), "", F42/($B42*Parameters!$B$6)) | L42: =IF((G42=""), "", G42/($B42*Parameters!$B$6)) | M42: =IF($B42>0, (SUM(C42:G42)/(B42*Parameters!$B$4*Parameters!$B$6)),)
... A368: =IF((A367+1<Parameters!$B$3+1), (A367+1),) -> 338 | H368: =IF((C368=""), "", C368/($B368*Parameters!$B$6)) | I368: =IF((D368=""), "", D368/($B368*Parameters!$B$6)) | J368: =IF((E368=""), "", E368/($B368*Parameters!$B$6)) | K368: =IF((F368=""), "", F368/($B368*Parameters!$B$6)) | L368: =IF((G368=""), "", G368/($B368*Parameters!$B$6)) | M368: =IF($B368>0, (SUM(C368:G368)/(B368*Parameters!$B$4*Parameters!$B$6)),)

Sheet Graphs >>
A1: Choose a tab to the right to see graphical displays of the current data.
